BEGIN:VCALENDAR
VERSION:2.0
PRODID:-//VVN-BdA Leipzig e. V. - ECPv6.15.20//NONSGML v1.0//EN
CALSCALE:GREGORIAN
METHOD:PUBLISH
X-ORIGINAL-URL:https://vvn-bda-leipzig.de
X-WR-CALDESC:Veranstaltungen für VVN-BdA Leipzig e. V.
REFRESH-INTERVAL;VALUE=DURATION:PT1H
X-Robots-Tag:noindex
X-PUBLISHED-TTL:PT1H
BEGIN:VTIMEZONE
TZID:Europe/Paris
BEGIN:DAYLIGHT
TZOFFSETFROM:+0100
TZOFFSETTO:+0200
TZNAME:CEST
DTSTART:20230326T010000
END:DAYLIGHT
BEGIN:STANDARD
TZOFFSETFROM:+0200
TZOFFSETTO:+0100
TZNAME:CET
DTSTART:20231029T010000
END:STANDARD
BEGIN:DAYLIGHT
TZOFFSETFROM:+0100
TZOFFSETTO:+0200
TZNAME:CEST
DTSTART:20240331T010000
END:DAYLIGHT
BEGIN:STANDARD
TZOFFSETFROM:+0200
TZOFFSETTO:+0100
TZNAME:CET
DTSTART:20241027T010000
END:STANDARD
BEGIN:DAYLIGHT
TZOFFSETFROM:+0100
TZOFFSETTO:+0200
TZNAME:CEST
DTSTART:20250330T010000
END:DAYLIGHT
BEGIN:STANDARD
TZOFFSETFROM:+0200
TZOFFSETTO:+0100
TZNAME:CET
DTSTART:20251026T010000
END:STANDARD
END:VTIMEZONE
BEGIN:VEVENT
DTSTART;TZID=Europe/Paris:20240802T150000
DTEND;TZID=Europe/Paris:20240802T180000
DTSTAMP:20260419T212139
CREATED:20240724T200216Z
LAST-MODIFIED:20240724T200216Z
UID:2175-1722610800-1722621600@vvn-bda-leipzig.de
SUMMARY:2. August: Internationaler Tag des Gedenkens an den Genozid an Sinti und Roma
DESCRIPTION:In der Nacht des 02. August 1944 ermordeten die Nationalsozialisten die letzten 4200 in Auschwitz inhaftierten Roma und Sinti. Insgesamt wurden im Zweiten Weltkrieg mehr als 500.000 Menschen der Roma und Sinti ermordet.\n\nDer Verein Romano Sumnal lädt ein\, den Opfern des Genozids an den Roma am 02. August in Leipzig bei einer Kranzniederlegung am Mahnmal  „Geschlagener“ am Schwanenteich in der Goethestraße und in der Riebeckstraße 63 gemeinsam mit der Stadt Leipzig gedenken.\nRecherchen des Vereins in den letzten Jahren ergaben\, dass die Riebeckstraße ein zentraler Ort für die Deportation der Leipziger Roma und Sinti war.\n\nWir wollen gemeinsam mit Romano Sumnal und hoffentlich vielen Menschen an dieses Verbrechen der Nazis erinnern und freuen uns wenn Ihr uns dabei unterstützt.\n\n\n\nAblauf:\n15:00 Uhr: Gedenken und Kranzniederlegung am Mahnmal „Geschlagener“ am Schwanenteich in der Goethestraße\nWorte zum Gedenken von Dr. Skadi Jennicke Bürgermeisterin und Beigeordnete für Kultur der Stadt Leipzig\nund Gjulner Sejdi – 1. Vorsitzender von Romano Sumnal – Verband der Roma und Sinti in Sachsen\nMusikalische Begleitung Smule Seiffert\n\n15:30-16:00 Uhr: Fahrt mit der Straßenbahn oder mit Fahrrädern zur Riebeckstraße 63 – Erinnerungsort ehemalige Städtische Arbeitsanstalt\n\n16:00-17:00 Uhr: Gedenken und Vorstellung der Initiative am Erinnerungsort Riebeckstraße
URL:https://vvn-bda-leipzig.de/veranstaltung/2-august-internationaler-tag-des-gedenkens-an-den-genozid-an-sinti-und-roma
LOCATION:Schwanenteich\, Goethestraße/ Am Schwanenteich\, Leipzig\, Deutschland
END:VEVENT
END:VCALENDAR