BEGIN:VCALENDAR
VERSION:2.0
PRODID:-//VVN-BdA Leipzig e. V. - ECPv6.15.20//NONSGML v1.0//EN
CALSCALE:GREGORIAN
METHOD:PUBLISH
X-ORIGINAL-URL:https://vvn-bda-leipzig.de
X-WR-CALDESC:Veranstaltungen für VVN-BdA Leipzig e. V.
REFRESH-INTERVAL;VALUE=DURATION:PT1H
X-Robots-Tag:noindex
X-PUBLISHED-TTL:PT1H
BEGIN:VTIMEZONE
TZID:Europe/Paris
BEGIN:DAYLIGHT
TZOFFSETFROM:+0100
TZOFFSETTO:+0200
TZNAME:CEST
DTSTART:20250330T010000
END:DAYLIGHT
BEGIN:STANDARD
TZOFFSETFROM:+0200
TZOFFSETTO:+0100
TZNAME:CET
DTSTART:20251026T010000
END:STANDARD
BEGIN:DAYLIGHT
TZOFFSETFROM:+0100
TZOFFSETTO:+0200
TZNAME:CEST
DTSTART:20260329T010000
END:DAYLIGHT
BEGIN:STANDARD
TZOFFSETFROM:+0200
TZOFFSETTO:+0100
TZNAME:CET
DTSTART:20261025T010000
END:STANDARD
BEGIN:DAYLIGHT
TZOFFSETFROM:+0100
TZOFFSETTO:+0200
TZNAME:CEST
DTSTART:20270328T010000
END:DAYLIGHT
BEGIN:STANDARD
TZOFFSETFROM:+0200
TZOFFSETTO:+0100
TZNAME:CET
DTSTART:20271031T010000
END:STANDARD
END:VTIMEZONE
BEGIN:VEVENT
DTSTART;TZID=Europe/Paris:20260111T130000
DTEND;TZID=Europe/Paris:20260111T143000
DTSTAMP:20260422T160506
CREATED:20251212T092355Z
LAST-MODIFIED:20260104T193958Z
UID:2546-1768136400-1768141800@vvn-bda-leipzig.de
SUMMARY:Jahrestag der Ermordung der Antifaschisten der Schumann-Engert-Kresse-Gruppe
DESCRIPTION:Gedenken anlässlich des 81. Jahrestages der Ermordung der Antifaschisten um die Schumann-Engert-Kresse-Gruppe und des 92. Jahrestages der Hinrichtung Marinus van der Lubbes.\nAm 11. und 12. Januar jährt sich die Ermordung von zehn Antifaschisten aus Leipzig\, die in der Hinrichtungsstätte Münchner Platz in Dresden in diesen Tagen vor 81 Jahren hingerichtet wurden.\nLasst uns gemeinsam an Georg Schumann\, Otto Engert\, Kurt Kresse\, Karl Jungbluth\, William Zipperer\, Arthur Hoffmann\, Alfred Frank\, Georg Schwarz\, Richard Lehmann und Wolfgang Heinze erinnern. \nWenige Monate vor dem Kriegsende und der bedingungslosen Kapitulation des deutschen Faschismus wurden viele inhaftierte Antifaschist:innen hingerichtet und in den Endphaseverbrechen auch unzählige Häftlinge aus allen besetzten Ländern Europas ermordet. Das Schicksal der Mitglieder der Schumann-Engert-Kresse-Gruppe steht exemplarisch für den ungebrochenen Vernichtungswillen der deutschen Faschisten. \nIm Anschluss an dieses Gedenken auf dem Ehrenhain des Südfriedhofs werden wir gemeinsam mit dem Kunstkollektiv Marinus @kunstkollektiv_marinus noch zur Gedenkstelle für Marinus van der Lubbe gehen. Er war bereits am 10. Januar 1934 als Reichstagsbrandstifter hingerichtet worden. \n 
URL:https://vvn-bda-leipzig.de/veranstaltung/jahrestag-der-ermordung-der-antifaschisten-der-schumann-engert-kresse-gruppe
LOCATION:Südfriedhof
END:VEVENT
END:VCALENDAR