BEGIN:VCALENDAR
VERSION:2.0
PRODID:-//VVN-BdA Leipzig e. V. - ECPv6.15.20//NONSGML v1.0//EN
CALSCALE:GREGORIAN
METHOD:PUBLISH
X-WR-CALNAME:VVN-BdA Leipzig e. V.
X-ORIGINAL-URL:https://vvn-bda-leipzig.de
X-WR-CALDESC:Veranstaltungen für VVN-BdA Leipzig e. V.
REFRESH-INTERVAL;VALUE=DURATION:PT1H
X-Robots-Tag:noindex
X-PUBLISHED-TTL:PT1H
BEGIN:VTIMEZONE
TZID:Europe/Paris
BEGIN:DAYLIGHT
TZOFFSETFROM:+0100
TZOFFSETTO:+0200
TZNAME:CEST
DTSTART:20240331T010000
END:DAYLIGHT
BEGIN:STANDARD
TZOFFSETFROM:+0200
TZOFFSETTO:+0100
TZNAME:CET
DTSTART:20241027T010000
END:STANDARD
BEGIN:DAYLIGHT
TZOFFSETFROM:+0100
TZOFFSETTO:+0200
TZNAME:CEST
DTSTART:20250330T010000
END:DAYLIGHT
BEGIN:STANDARD
TZOFFSETFROM:+0200
TZOFFSETTO:+0100
TZNAME:CET
DTSTART:20251026T010000
END:STANDARD
BEGIN:DAYLIGHT
TZOFFSETFROM:+0100
TZOFFSETTO:+0200
TZNAME:CEST
DTSTART:20260329T010000
END:DAYLIGHT
BEGIN:STANDARD
TZOFFSETFROM:+0200
TZOFFSETTO:+0100
TZNAME:CET
DTSTART:20261025T010000
END:STANDARD
END:VTIMEZONE
BEGIN:VEVENT
DTSTART;TZID=Europe/Paris:20251203T190000
DTEND;TZID=Europe/Paris:20251203T210000
DTSTAMP:20260422T180559
CREATED:20251110T115558Z
LAST-MODIFIED:20251110T115558Z
UID:2513-1764788400-1764795600@vvn-bda-leipzig.de
SUMMARY:Buchvorstelllung: Netzwerke gegen Hitler und Stalin. Die Pariser Wochenzeitung “Die Zukunft”
DESCRIPTION:Mit Dr. Bernhard Bayerlein (Historiker)\, Moderation: Dr. Rhena Stürmer (Historikerin) \nMit der Pariser Wochenzeitung „Die Zukunft“ (1938-1940) gründete KPD-Dissident Willi Münzenberg\, der einflussreichste antifaschistische Organisator und Medienmacher der Zwischenkriegszeit\, gemeinsam mit dem progressiven Katholiken Werner Thormann und französischen Verfechtern der Republik ein visionäres Sprachrohr aller Hitler-Gegner*innen als „Organ der Deutsch-Französischen Union“. Viel mehr als nur eine Zeitung\, entpuppt sich die „Zukunft“ als Klammer für eine Vielzahl offener und geheimer transnationaler Netzwerke von Hitlergegner*innen aller Schattierungen. \nAnhand neuer Archivfunde aus Moskau\, Berlin\, London und Paris erzählt Bernhard Bayerlein eine beinahe untergegangene Geschichte: Die der letzten Kohorte europäischer Freiheitskämpfer*innen vor dem Weltkrieg\, Mittler*innen und Expats zugleich\, die nicht am Scheitern der politischen Parteien 1933 verzweifelten. Er schreibt von Politiker*innen\, Literat*innen\, Wissenschaftler*innen und Kulturschaffenden\, die noch bis in den Zweiten Weltkrieg hinein den Traum von Hitlers Sturz verwirklichen wollten. \nIm Anschluss an die Buchvorstellung sprechen Rhena Stürmer und Bernhard Bayerlein auch über das Erinnern an Willi Münzenberg. Während in Münzenbergs Geburtsstadt Erfurt bislang nur eine kleine Gedenktafel angebracht wurde\, hat die kleine französische Gemeinde Montagne\, in der sich sein Grab befindet\, einen eindrucksvollen deutsch-französischen Erinnerungsort geschaffen: den Willi-Münzenberg-Weg. \n  \nEine Veranstaltung der RLS Sachsen in Kooperation mit der VVN-BdA Leipzig \n* Diese Maßnahme wird mitfinanziert durch Steuermittel auf der Grundlage des vom Sächsischen Landtag beschlossenen Haushaltes. \n 
URL:https://vvn-bda-leipzig.de/veranstaltung/buchvorstelllung-netzwerke-gegen-hitler-und-stalin-die-pariser-wochenzeitung-die-zukunft
LOCATION:Capa-Haus an der Angerbrücke\, Jahnallee 61\, Leipzig\, 04177
CATEGORIES:VVNBdALeipzig
ATTACH;FMTTYPE=image/jpeg:https://vvn-bda-leipzig.de/wp-content/uploads/2025/11/321_Cover.jpg
ORGANIZER;CN="Rosa-Luxemburg-Stiftung Sachsen e.V.":MAILTO:info@rosalux-sachsen.de
END:VEVENT
BEGIN:VEVENT
DTSTART;TZID=Europe/Paris:20251209T160000
DTEND;TZID=Europe/Paris:20251209T180000
DTSTAMP:20260422T180559
CREATED:20250714T104445Z
LAST-MODIFIED:20251003T081058Z
UID:2448-1765296000-1765303200@vvn-bda-leipzig.de
SUMMARY:Cafe-Treff
DESCRIPTION:Immer am ersten Dienstag des Monats treffen wir uns in gemütlicher Runde zu Kaffee und Kuchen und gemeinsamem Austausch unter den Mitgliedern.\nDie Gebursttagskinder des vergangenen Monats sind ganz besonders eingeladen.
URL:https://vvn-bda-leipzig.de/veranstaltung/cafe-treff-2
END:VEVENT
END:VCALENDAR