BEGIN:VCALENDAR
VERSION:2.0
PRODID:-//VVN-BdA Leipzig e. V. - ECPv6.15.20//NONSGML v1.0//EN
CALSCALE:GREGORIAN
METHOD:PUBLISH
X-ORIGINAL-URL:https://vvn-bda-leipzig.de
X-WR-CALDESC:Veranstaltungen für VVN-BdA Leipzig e. V.
REFRESH-INTERVAL;VALUE=DURATION:PT1H
X-Robots-Tag:noindex
X-PUBLISHED-TTL:PT1H
BEGIN:VTIMEZONE
TZID:Europe/Paris
BEGIN:DAYLIGHT
TZOFFSETFROM:+0100
TZOFFSETTO:+0200
TZNAME:CEST
DTSTART:20240331T010000
END:DAYLIGHT
BEGIN:STANDARD
TZOFFSETFROM:+0200
TZOFFSETTO:+0100
TZNAME:CET
DTSTART:20241027T010000
END:STANDARD
BEGIN:DAYLIGHT
TZOFFSETFROM:+0100
TZOFFSETTO:+0200
TZNAME:CEST
DTSTART:20250330T010000
END:DAYLIGHT
BEGIN:STANDARD
TZOFFSETFROM:+0200
TZOFFSETTO:+0100
TZNAME:CET
DTSTART:20251026T010000
END:STANDARD
BEGIN:DAYLIGHT
TZOFFSETFROM:+0100
TZOFFSETTO:+0200
TZNAME:CEST
DTSTART:20260329T010000
END:DAYLIGHT
BEGIN:STANDARD
TZOFFSETFROM:+0200
TZOFFSETTO:+0100
TZNAME:CET
DTSTART:20261025T010000
END:STANDARD
END:VTIMEZONE
BEGIN:VEVENT
DTSTART;TZID=Europe/Paris:20251104T160000
DTEND;TZID=Europe/Paris:20251104T180000
DTSTAMP:20260422T195302
CREATED:20250714T082727Z
LAST-MODIFIED:20251003T080002Z
UID:2428-1762272000-1762279200@vvn-bda-leipzig.de
SUMMARY:Cafe-Treff
DESCRIPTION:Immer am ersten Dienstag des Monats treffen wir uns in gemütlicher Runde zu Kaffee und Kuchen und gemeinsamem Austausch unter den Mitgliedern.\nDie Gebursttagskinder des vergangenen Monats sind ganz besonders eingeladen.
URL:https://vvn-bda-leipzig.de/veranstaltung/cafe-treff
END:VEVENT
BEGIN:VEVENT
DTSTART;TZID=Europe/Paris:20251119T170000
DTEND;TZID=Europe/Paris:20251119T200000
DTSTAMP:20260422T195302
CREATED:20251110T120123Z
LAST-MODIFIED:20251110T120123Z
UID:2527-1763571600-1763582400@vvn-bda-leipzig.de
SUMMARY:Veranstaltungshinweis: Antifaschistisches Interviewtraining*
DESCRIPTION:Online\, 19. November\, Mittwoch\, 17.00 – 20.00 Uhr \nWorkshop \nAntifaschistisches Interviewtraining* \nMit Emily Laquer (Aktivistinnenagentur) \nRechte Gewalt nimmt zu – und ihr seid oft die Ersten\, die hinschauen und handeln. Doch während sich Nazi-Übergriffe und Bedrohungen häufen\, geraten engagierte Menschen immer häufiger selbst ins Visier. Trotzdem leisten viele von euch täglich unbezahlbare Arbeit: Ihr unterstützt Betroffene\, werdet laut und fordert die Politik zum Handeln auf – und werdet dafür auch von Medien angefragt oder zu Veranstaltungen eingeladen. Das ist unsere Chance\, mit klarer Haltung und antifaschistischen Botschaften zu intervenieren. \nAber wie gelingt es\, in Interviews und Diskussionen souverän zu bleiben\, ohne sich provozieren zu lassen? Wie schaffen wir es\, rechte Narrative zu kontern – und trotzdem die eigenen Themen zu setzen? \nVon Emily Laquer\, Interview-Trainerin und Talkshow-Coach\, erhaltet ihr die wichtigsten Profi-Tipps für einen starken und überzeugenden Auftritt: \n\nDie 3 Regeln für starke Interviews\nVorbereitung in 5 Minuten\nÜberzeugende Statements\nAuf fiese Fragen antworten\nBei Provokationen und persönlichen Angriffen souverän bleiben\nSelbstbewusst in Diskussionen auftreten\nLampenfieber meistern\n\nIm praktischen Teil werden wir gemeinsam das Gehörte ausprobieren. \nUm Anmeldung wird gebeten unter: anmeldung@rosalux-sachsen.de. Die Veranstaltung richtet sich hauptsächlich an Menschen aus  Sachsen. Bitte gebt bei eurer Anmeldung an\, woher ihr kommt und wo/wie ihr euch ggf. engagiert. \nNach der Anmeldung erhaltet ihr den Zoomlink per E-Mail. \nDas Training eignet sich für alle\, die sich für eine solidarische und ökologische Gesellschaft engagieren und ihre Botschaften überzeugend rüberbringen wollen.
URL:https://vvn-bda-leipzig.de/veranstaltung/veranstaltungshinweis-antifaschistisches-interviewtraining
CATEGORIES:Tipp
ATTACH;FMTTYPE=image/jpeg:https://vvn-bda-leipzig.de/wp-content/uploads/2025/11/photo_2025-11-10_13-00-05.jpg
ORGANIZER;CN="Rosa-Luxemburg-Stiftung Sachsen e.V.":MAILTO:info@rosalux-sachsen.de
END:VEVENT
BEGIN:VEVENT
DTSTART;TZID=Europe/Paris:20251125T190000
DTEND;TZID=Europe/Paris:20251125T210000
DTSTAMP:20260422T195302
CREATED:20251003T080804Z
LAST-MODIFIED:20251003T080804Z
UID:2517-1764097200-1764104400@vvn-bda-leipzig.de
SUMMARY:Plenum mit Vorstandsarbeit VVN-BdA
DESCRIPTION:Immer am vierten Dienstag des Monats findet ab 19 Uhr unser Plenum mit Vorstnadsarbeit statt.\nDas Plenum bietet die Möglichkeit sich niedrigschwellig in die Arbeit des Vereins einzubringen und gemeinsam Ideen zu entwickeln.
URL:https://vvn-bda-leipzig.de/veranstaltung/plenum-mit-vorstandsarbeit-vvn-bda-3
END:VEVENT
END:VCALENDAR