BEGIN:VCALENDAR
VERSION:2.0
PRODID:-//VVN-BdA Leipzig e. V. - ECPv6.15.20//NONSGML v1.0//EN
CALSCALE:GREGORIAN
METHOD:PUBLISH
X-ORIGINAL-URL:https://vvn-bda-leipzig.de
X-WR-CALDESC:Veranstaltungen für VVN-BdA Leipzig e. V.
REFRESH-INTERVAL;VALUE=DURATION:PT1H
X-Robots-Tag:noindex
X-PUBLISHED-TTL:PT1H
BEGIN:VTIMEZONE
TZID:Europe/Paris
BEGIN:DAYLIGHT
TZOFFSETFROM:+0100
TZOFFSETTO:+0200
TZNAME:CEST
DTSTART:20240331T010000
END:DAYLIGHT
BEGIN:STANDARD
TZOFFSETFROM:+0200
TZOFFSETTO:+0100
TZNAME:CET
DTSTART:20241027T010000
END:STANDARD
BEGIN:DAYLIGHT
TZOFFSETFROM:+0100
TZOFFSETTO:+0200
TZNAME:CEST
DTSTART:20250330T010000
END:DAYLIGHT
BEGIN:STANDARD
TZOFFSETFROM:+0200
TZOFFSETTO:+0100
TZNAME:CET
DTSTART:20251026T010000
END:STANDARD
BEGIN:DAYLIGHT
TZOFFSETFROM:+0100
TZOFFSETTO:+0200
TZNAME:CEST
DTSTART:20260329T010000
END:DAYLIGHT
BEGIN:STANDARD
TZOFFSETFROM:+0200
TZOFFSETTO:+0100
TZNAME:CET
DTSTART:20261025T010000
END:STANDARD
END:VTIMEZONE
BEGIN:VEVENT
DTSTART;TZID=Europe/Paris:20251007T160000
DTEND;TZID=Europe/Paris:20251007T180000
DTSTAMP:20260422T212651
CREATED:20251003T075826Z
LAST-MODIFIED:20251003T075826Z
UID:2515-1759852800-1759860000@vvn-bda-leipzig.de
SUMMARY:Cafe-Treff
DESCRIPTION:Immer am ersten Dienstag des Monats treffen wir uns in gemütlicher Runde zu Kaffee und Kuchen und gemeinsamem Austausch unter den Mitgliedern.\nDie Gebursttagskinder des vergangenen Monats sind ganz besonders eingeladen.
URL:https://vvn-bda-leipzig.de/veranstaltung/cafe-treff-3
END:VEVENT
BEGIN:VEVENT
DTSTART;TZID=Europe/Paris:20251014T190000
DTEND;TZID=Europe/Paris:20251014T210000
DTSTAMP:20260422T212651
CREATED:20250714T104552Z
LAST-MODIFIED:20250714T104552Z
UID:2450-1760468400-1760475600@vvn-bda-leipzig.de
SUMMARY:Plenum VVN-BdA Leipzig
DESCRIPTION:Immer am zweiten Dienstag des Monats findet ab 19 Uhr unser Plenum statt.\nDas Plenum bietet die Möglichkeit sich niedrigschwellig in die Arbeit des Vereins einzubringen und gemeinsam Ideen zu entwickeln.
URL:https://vvn-bda-leipzig.de/veranstaltung/plenum-vvn-bda-leipzig-2
END:VEVENT
BEGIN:VEVENT
DTSTART;TZID=Europe/Paris:20251022T190000
DTEND;TZID=Europe/Paris:20251022T210000
DTSTAMP:20260422T212651
CREATED:20250714T104710Z
LAST-MODIFIED:20250714T104710Z
UID:2452-1761159600-1761166800@vvn-bda-leipzig.de
SUMMARY:Antifa-Stammtisch
DESCRIPTION:Immer am dritten Mittwoch im Monat treffen wir uns zu unserem Antifa-Stammtisch. In lockerer Atmosphäre können wir uns besser kennenlernen. Der Stammtisch bietet auch den Rahmen für kleine Inputs zu bestimmten Themen.
URL:https://vvn-bda-leipzig.de/veranstaltung/antifa-stammtisch-5
END:VEVENT
BEGIN:VEVENT
DTSTART;TZID=Europe/Paris:20251026T160000
DTEND;TZID=Europe/Paris:20251026T180000
DTSTAMP:20260422T212651
CREATED:20250822T194559Z
LAST-MODIFIED:20250909T181134Z
UID:2499-1761494400-1761501600@vvn-bda-leipzig.de
SUMMARY:Film und Gespräch: „Einmal und nie wieder!“
DESCRIPTION:Mit Johannes Hör (Regisseur) \nin der Kinobar Prager Frühling im Haus der Demokratie (HdD) \nEine Veranstaltung der VVN-BdA Leipzig \nIm Alter von 93 Jahren erinnert sich die Hamburger Zeitzeugin und Antifaschistin Marianne Wilke (1929 – 2023) noch sehr gut an die grausamen Stunden in den Bunkern Hamburgs. Als so genannte „Halbjüdin“ entkam sie als Schulmädchen nur knapp der Deportation. Sie überlebte\, erfuhr Ausgrenzung aber auch Solidarität. \nNach dem Krieg schloss sie sich einer Gruppe an\, die als Protest gegen Wiederbewaffnung und Krieg zum Jahreswechsel 1950/51 die Insel Helgoland besetzt. Sie war seit 1945 militärisches Sperrgebiet und diente der Royal Airforce als Bombenabwurfplatz. \nNach der Aktion war Marianne Wilke klar\, dass sie sich aktiv für eine bessere und friedlichere Welt einsetzen muss: „Nie wieder Krieg\, nie wieder Faschismus!“\, sagt sie vor einer Schulklasse sitzend und beginnt zu erzählen\, warum es die „Stunde Null“ so nie gab. \nDer Film erzählt vom Bemühen um eine Aufarbeitung und Dokumentation des Faschismus und des Krieges\, vom Einsatz für Frieden\, vom Kampf für die Anerkennung der Sinti und Roma als Minderheit in Schleswig-Holstein und für Entschädigungszahlungen an die NS- Zwangsarbeiter*innen. \nZum Filmgespräch ist Regisseur Johannes Hör zu Gast. \n  \nZum Film: https://einmal-und-nie-wieder.de/ \n \nRegie: Johannes Hör \nRegieassistenz und Schnitt: Lara Elmenhorst \nProduktion: VVN-BdA Schleswig-Holstein\, 2024 \n 
URL:https://vvn-bda-leipzig.de/veranstaltung/film-und-gespraech-einmal-und-nie-wieder
LOCATION:Kinobar Prager Frühling\, Haus der Demokratie\, Bernhard-Göring-Str. 152\, Leipzig\, 04277
ATTACH;FMTTYPE=image/jpeg:https://vvn-bda-leipzig.de/wp-content/uploads/2025/08/MW_sharepic_Blanko.jpg
ORGANIZER;CN="VVN-BdA Leipzig":MAILTO:info@vvn-bda-leipzig.de
END:VEVENT
BEGIN:VEVENT
DTSTART;TZID=Europe/Paris:20251028T190000
DTEND;TZID=Europe/Paris:20251028T210000
DTSTAMP:20260422T212651
CREATED:20250714T104812Z
LAST-MODIFIED:20251003T080712Z
UID:2454-1761678000-1761685200@vvn-bda-leipzig.de
SUMMARY:Plenum mit Vorstandsarbeit VVN-BdA
DESCRIPTION:Immer am vierten Dienstag des Monats findet ab 19 Uhr unser Plenum mit Vorstnadsarbeit statt.\nDas Plenum bietet die Möglichkeit sich niedrigschwellig in die Arbeit des Vereins einzubringen und gemeinsam Ideen zu entwickeln.
URL:https://vvn-bda-leipzig.de/veranstaltung/plenum-mit-vorstandsarbeit-vvn-bda-2
END:VEVENT
END:VCALENDAR