BEGIN:VCALENDAR
VERSION:2.0
PRODID:-//VVN-BdA Leipzig e. V. - ECPv6.15.20//NONSGML v1.0//EN
CALSCALE:GREGORIAN
METHOD:PUBLISH
X-WR-CALNAME:VVN-BdA Leipzig e. V.
X-ORIGINAL-URL:https://vvn-bda-leipzig.de
X-WR-CALDESC:Veranstaltungen für VVN-BdA Leipzig e. V.
REFRESH-INTERVAL;VALUE=DURATION:PT1H
X-Robots-Tag:noindex
X-PUBLISHED-TTL:PT1H
BEGIN:VTIMEZONE
TZID:Europe/Paris
BEGIN:DAYLIGHT
TZOFFSETFROM:+0100
TZOFFSETTO:+0200
TZNAME:CEST
DTSTART:20240331T010000
END:DAYLIGHT
BEGIN:STANDARD
TZOFFSETFROM:+0200
TZOFFSETTO:+0100
TZNAME:CET
DTSTART:20241027T010000
END:STANDARD
BEGIN:DAYLIGHT
TZOFFSETFROM:+0100
TZOFFSETTO:+0200
TZNAME:CEST
DTSTART:20250330T010000
END:DAYLIGHT
BEGIN:STANDARD
TZOFFSETFROM:+0200
TZOFFSETTO:+0100
TZNAME:CET
DTSTART:20251026T010000
END:STANDARD
BEGIN:DAYLIGHT
TZOFFSETFROM:+0100
TZOFFSETTO:+0200
TZNAME:CEST
DTSTART:20260329T010000
END:DAYLIGHT
BEGIN:STANDARD
TZOFFSETFROM:+0200
TZOFFSETTO:+0100
TZNAME:CET
DTSTART:20261025T010000
END:STANDARD
END:VTIMEZONE
BEGIN:VEVENT
DTSTART;TZID=Europe/Paris:20250905T170000
DTEND;TZID=Europe/Paris:20250905T183000
DTSTAMP:20260422T230326
CREATED:20250714T082104Z
LAST-MODIFIED:20250714T082104Z
UID:2425-1757091600-1757097000@vvn-bda-leipzig.de
SUMMARY:Wir lassen über die Geschichte kein Gras wachsen
DESCRIPTION:„Wir lassen über die Geschichte kein Gras wachsen“.  \nPackt also ein paar Gartengeräte (Unkrautstecher\, Gartenscheren\, Handfeger etc.) ein und kommt mit uns auf den Südfriedhof. Wir reinigen die Grabstätten der auf dem Ehrenhain des Südfriedhofes beerdigten Antifaschistinnen und Widerstandskämpferinnen.\nWir treffen uns am Samstag\, 05.09.2025 um 17.00 Uhr direkt am Ehrenhain. \nNeben der gemeinsamen Arbeit bietet die Aktion auch die Möglichkeit\, sich über Biografien von Menschen auszutauschen\, die hier bestattet wurden.\nUnter ihnen etwa Alfred Kästner\, der am 12.04.1945 von den Faschisten in Lindenthal ermordet wurde.
URL:https://vvn-bda-leipzig.de/veranstaltung/wir-lassen-ueber-die-geschichte-kein-gras-wachsen-5
LOCATION:Südfriedhof
ATTACH;FMTTYPE=image/jpeg:https://vvn-bda-leipzig.de/wp-content/uploads/2025/07/friedhof0509.jpg
ORGANIZER;CN="VVN-BdA Leipzig":MAILTO:info@vvn-bda-leipzig.de
END:VEVENT
BEGIN:VEVENT
DTSTART;TZID=Europe/Paris:20250909T190000
DTEND;TZID=Europe/Paris:20250909T210000
DTSTAMP:20260422T230326
CREATED:20250714T083138Z
LAST-MODIFIED:20250714T083138Z
UID:2433-1757444400-1757451600@vvn-bda-leipzig.de
SUMMARY:Plenum VVN-BdA Leipzig
DESCRIPTION:Immer am zweiten Dienstag des Monats findet ab 19 Uhr unser Plenum statt.\nDas Plenum bietet die Möglichkeit sich niedrigschwellig in die Arbeit des Vereins einzubringen und gemeinsam Ideen zu entwickeln.
URL:https://vvn-bda-leipzig.de/veranstaltung/plenum-vvn-bda-leipzig
END:VEVENT
BEGIN:VEVENT
DTSTART;TZID=Europe/Paris:20250910T190000
DTEND;TZID=Europe/Paris:20250910T210000
DTSTAMP:20260422T230326
CREATED:20250822T124720Z
LAST-MODIFIED:20250902T192657Z
UID:2496-1757530800-1757538000@vvn-bda-leipzig.de
SUMMARY:Lesung & Gespräch "Das Deutsche Demokratische Reich. Wie die extreme Rechte Geschichte und Demokratie zerstört"
DESCRIPTION:Mit Volker Weiß (Autor) \nEine Veranstaltung der RLS Sachsen in Kooperation mit der VVN-BdA Leipzig e.V. \nIn seinem aktuellen Buch bietet der Historiker und Publizist Volker Weiß erneut eine tiefgehende und historisch fundierte Zeitdiagnose zur AfD und der extremen Rechten an. Im Gespräch mit ihm werden wir klären\, warum die Deutungshoheit über Geschichte und Gegenwart eine so zentrale Rolle im „geistigen Bürgerkrieg“ der extremen Rechten spielt. Welcher widersprüchlichen\, verklärenden und oft schrillen Geschichtskonstruktionen und Methoden sich die extreme Rechte bedient\, um ein neues autoritäres System in Deutschland auf den Weg zu bringen. Wir sprechen über die wichtigsten Strömungen und Akteure und schauen auf vergleichbare Aktionen der rechten Milieus in Russland und den USA.
URL:https://vvn-bda-leipzig.de/veranstaltung/lesung-gespraech-das-deutsche-demokratische-reich-wie-die-extreme-rechte-geschichte-und-demokratie-zerstoert
LOCATION:Capa-Haus an der Angerbrücke\, Jahnallee 61\, Leipzig\, 04177
CATEGORIES:VVNBdALeipzig
ATTACH;FMTTYPE=image/jpeg:https://vvn-bda-leipzig.de/wp-content/uploads/2025/08/2025_09_10-Deutsche-Demokratische-Reich-LE.jpg
ORGANIZER;CN="VVN-BdA Leipzig":MAILTO:info@vvn-bda-leipzig.de
END:VEVENT
BEGIN:VEVENT
DTSTART;TZID=Europe/Paris:20250917T190000
DTEND;TZID=Europe/Paris:20250917T210000
DTSTAMP:20260422T230326
CREATED:20250714T103158Z
LAST-MODIFIED:20250714T103158Z
UID:2444-1758135600-1758142800@vvn-bda-leipzig.de
SUMMARY:Antifa-Stammtisch
DESCRIPTION:Immer am dritten Mittwoch im Monat treffen wir uns zu unserem Antifa-Stammtisch. In lockerer Atmosphäre können wir uns besser kennenlernen. Der Stammtisch bietet auch den Rahmen für kleine Inputs zu bestimmten Themen.
URL:https://vvn-bda-leipzig.de/veranstaltung/antifa-stammtisch-4
END:VEVENT
BEGIN:VEVENT
DTSTART;TZID=Europe/Paris:20250923T190000
DTEND;TZID=Europe/Paris:20250923T210000
DTSTAMP:20260422T230326
CREATED:20250714T103549Z
LAST-MODIFIED:20250714T103549Z
UID:2446-1758654000-1758661200@vvn-bda-leipzig.de
SUMMARY:Plenum mit Vorstandsarbeit VVN-BdA
DESCRIPTION:Immer am vierten Dienstag des Monats findet ab 19 Uhr unser Plenum mit Vorstnadsarbeit statt.\nDas Plenum bietet die Möglichkeit sich niedrigschwellig in die Arbeit des Vereins einzubringen und gemeinsam Ideen zu entwickeln.
URL:https://vvn-bda-leipzig.de/veranstaltung/plenum-mit-vorstandsarbeit-vvn-bda
END:VEVENT
END:VCALENDAR