BEGIN:VCALENDAR
VERSION:2.0
PRODID:-//VVN-BdA Leipzig e. V. - ECPv6.15.20//NONSGML v1.0//EN
CALSCALE:GREGORIAN
METHOD:PUBLISH
X-ORIGINAL-URL:https://vvn-bda-leipzig.de
X-WR-CALDESC:Veranstaltungen für VVN-BdA Leipzig e. V.
REFRESH-INTERVAL;VALUE=DURATION:PT1H
X-Robots-Tag:noindex
X-PUBLISHED-TTL:PT1H
BEGIN:VTIMEZONE
TZID:Europe/Paris
BEGIN:DAYLIGHT
TZOFFSETFROM:+0100
TZOFFSETTO:+0200
TZNAME:CEST
DTSTART:20240331T010000
END:DAYLIGHT
BEGIN:STANDARD
TZOFFSETFROM:+0200
TZOFFSETTO:+0100
TZNAME:CET
DTSTART:20241027T010000
END:STANDARD
BEGIN:DAYLIGHT
TZOFFSETFROM:+0100
TZOFFSETTO:+0200
TZNAME:CEST
DTSTART:20250330T010000
END:DAYLIGHT
BEGIN:STANDARD
TZOFFSETFROM:+0200
TZOFFSETTO:+0100
TZNAME:CET
DTSTART:20251026T010000
END:STANDARD
BEGIN:DAYLIGHT
TZOFFSETFROM:+0100
TZOFFSETTO:+0200
TZNAME:CEST
DTSTART:20260329T010000
END:DAYLIGHT
BEGIN:STANDARD
TZOFFSETFROM:+0200
TZOFFSETTO:+0100
TZNAME:CET
DTSTART:20261025T010000
END:STANDARD
END:VTIMEZONE
BEGIN:VEVENT
DTSTART;TZID=Europe/Paris:20250705T103000
DTEND;TZID=Europe/Paris:20250705T120000
DTSTAMP:20260423T015121
CREATED:20250411T123237Z
LAST-MODIFIED:20250701T075353Z
UID:2387-1751711400-1751716800@vvn-bda-leipzig.de
SUMMARY:Wir lassen über die Geschichte kein Gras wachsen
DESCRIPTION:Auch 80 Jahre nach der Befreiung vom Faschismus heißt es für uns:\n„Wir lassen über die Geschichte kein Gras wachsen“.  \nPackt also ein paar Gartengeräte (Unkrautstecher\, Gartenscheren\, Handfeger etc.) ein und kommt mit uns auf den Südfriedhof. Wir reinigen die Grabstätten der auf dem Ehrenhain des Südfriedhofes beerdigten Antifaschistinnen und Widerstandskämpferinnen.\nWir treffen uns am Samstag\, 05.07.2025 um 10.30 Uhr direkt am Ehrenhain. \nNeben der gemeinsamen Arbeit bietet die Aktion auch die Möglichkeit\, sich über Biografien von Menschen auszutauschen\, die hier bestattet wurden.\nUnter ihnen etwa Alfred Kästner\, der am 12.04.1945 von den Faschisten in Lindenthal ermordet wurde.
URL:https://vvn-bda-leipzig.de/veranstaltung/wir-lassen-ueber-die-geschichte-kein-gras-wachsen-4
LOCATION:Südfriedhof
ATTACH;FMTTYPE=image/png:https://vvn-bda-leipzig.de/wp-content/uploads/2025/04/friedhof0507.png
ORGANIZER;CN="VVN-BdA Leipzig":MAILTO:info@vvn-bda-leipzig.de
END:VEVENT
END:VCALENDAR