BEGIN:VCALENDAR
VERSION:2.0
PRODID:-//VVN-BdA Leipzig e. V. - ECPv6.15.20//NONSGML v1.0//EN
CALSCALE:GREGORIAN
METHOD:PUBLISH
X-WR-CALNAME:VVN-BdA Leipzig e. V.
X-ORIGINAL-URL:https://vvn-bda-leipzig.de
X-WR-CALDESC:Veranstaltungen für VVN-BdA Leipzig e. V.
REFRESH-INTERVAL;VALUE=DURATION:PT1H
X-Robots-Tag:noindex
X-PUBLISHED-TTL:PT1H
BEGIN:VTIMEZONE
TZID:Europe/Paris
BEGIN:DAYLIGHT
TZOFFSETFROM:+0100
TZOFFSETTO:+0200
TZNAME:CEST
DTSTART:20230326T010000
END:DAYLIGHT
BEGIN:STANDARD
TZOFFSETFROM:+0200
TZOFFSETTO:+0100
TZNAME:CET
DTSTART:20231029T010000
END:STANDARD
BEGIN:DAYLIGHT
TZOFFSETFROM:+0100
TZOFFSETTO:+0200
TZNAME:CEST
DTSTART:20240331T010000
END:DAYLIGHT
BEGIN:STANDARD
TZOFFSETFROM:+0200
TZOFFSETTO:+0100
TZNAME:CET
DTSTART:20241027T010000
END:STANDARD
BEGIN:DAYLIGHT
TZOFFSETFROM:+0100
TZOFFSETTO:+0200
TZNAME:CEST
DTSTART:20250330T010000
END:DAYLIGHT
BEGIN:STANDARD
TZOFFSETFROM:+0200
TZOFFSETTO:+0100
TZNAME:CET
DTSTART:20251026T010000
END:STANDARD
END:VTIMEZONE
BEGIN:VEVENT
DTSTART;TZID=Europe/Paris:20241107T190000
DTEND;TZID=Europe/Paris:20241107T210000
DTSTAMP:20260423T143107
CREATED:20241006T140614Z
LAST-MODIFIED:20241031T110437Z
UID:2207-1731006000-1731013200@vvn-bda-leipzig.de
SUMMARY:Regina Scheer: "Bittere Brunnen. Hertha Gordon-Walcher und der Traum von der Revolution" – Lesung & Gespräch
DESCRIPTION:Eine andere\, eine gerechtere Welt ist möglich: davon ist die junge Jüdin Hertha Gordon\, später Walcher\, überzeugt\, als sie sich in den 1910er-Jahren den Sozialist*innen anschließt und in den Kampf stürzt. Zu ihren Weggefährt*innen gehören etwa Clara Zetkin\, Rosa Luxemburg oder Willy Brandt. \nIn „Bittere Brunnen“ berichtet Regina Scheer von Hertha Gordon-Walchers bewegtem Leben. Sie erzählt vom Widerstand gegen die Nationalsozialisten\, von Flucht und Exil und von der Hoffnung auf den Aufbau des Sozialismus in der DDR. \nDas Buch handelt von einem Leben im Dienst einer großen Idee\, von Enttäuschungen\, von unzerstörbarer Hoffnung\, von Verbundenheit und Hilfsbereitschaft\, aber auch von erbittertem Streit unter Menschen\, die doch das gleiche Ziel verfolgen. \nRegina Scheer\, 1950 in Berlin geboren\, kannte Hertha Gordon-Walcher (1894–1990) seit ihrer Kindheit und führte unzählige Gespräche mir ihr. Sie studierte Theater- und Kulturwissenschaft\, arbeitete als Journalistin\, Redakteurin und Publizistin. Ihre ersten beiden Romane\, „Machandel“ (2014) und „Gott wohnt im Wedding“ (2019)\, waren große Publikumserfolge. „Bittere Brunnen“ wurde 2023 mit dem Preis der Leipziger Buchmesse ausgezeichnet. \nEine Veranstaltung der MONAliesA – Feministische Bibliothek & Archiv in Kooperation mit der Naturfreundejugend Leipzig und der VVN-BdA Leipzig. \nKommt gerne pünktlich\, denn in den Räumen der MONAliesA ist nur begrenzt Platz. Danke für euer Verständnis und Mitwirken! \nÜber Spenden am Einlass freuen wir uns.
URL:https://vvn-bda-leipzig.de/veranstaltung/regina-scheer-bittere-brunnen-lesung-gespraech
LOCATION:MONAliesA\, Haus der Demokratie – Bernhard-Göring-Straße 152\, Leipzig\, 04277\, Germany
CATEGORIES:VVNBdALeipzig
ATTACH;FMTTYPE=image/png:https://vvn-bda-leipzig.de/wp-content/uploads/2024/10/2024_Scheer-Share-Pic.png
ORGANIZER;CN="Naturfreundejugend Leipzig":MAILTO:leipzig@naturfreundejugend.de
END:VEVENT
BEGIN:VEVENT
DTSTART;VALUE=DATE:20241108
DTEND;VALUE=DATE:20241109
DTSTAMP:20260423T143107
CREATED:20241015T203453Z
LAST-MODIFIED:20241015T205212Z
UID:2223-1731024000-1731110399@vvn-bda-leipzig.de
SUMMARY:Sicht|Felder. Kunst\, Gedächtnis und Erinnerung – Erinnerungspolitischer Fachtag 2024 der sLAG
DESCRIPTION:Erinnerung und Gedenken im öffentlichen Raum mit künstlerischen Auseinandersetzungen und Interventionen wird zum einen durch Vorträge und Workshops am Fachtag besprochen findet zum anderen im mehrtägigen Rahmenprogramm der sächsischen Landesarbeitsgemeinschaft Auseinandersetzung mit dem NS (sLAG) seinen Widerhall. \nFür genauere Informationen und zur Anmeldung schaut bitte hier:  https://slag-aus-ns.de/termine/sichtfelder-kunst-gedaechtnis-und-erinnerung-erinnerungspolitischer-fachtag-2024/ \nHier geht’s zum Flyer mit den Workshops: https://slag-aus-ns.de/wp-content/uploads/2024/09/EPFT_Flyer_online.pdf EPFT_Flyer_online
URL:https://vvn-bda-leipzig.de/veranstaltung/sichtfelder-kunst-gedaechtnis-und-erinnerung-erinnerungspolitischer-fachtag-2024-der-slag-saechsische-landesarbeitsgemeinschaft-auseinandersetzung-mit-dem-ns
LOCATION:Zentralwerk\, Riesaer Str. 32\, 01127 Dresden\, Riesaer Str. 32\, Dresden\, 01127\, Germany
CATEGORIES:Tipp
END:VEVENT
BEGIN:VEVENT
DTSTART;TZID=Europe/Paris:20241109T170000
DTEND;TZID=Europe/Paris:20241109T190000
DTSTAMP:20260423T143107
CREATED:20241009T113729Z
LAST-MODIFIED:20241031T150542Z
UID:2216-1731171600-1731178800@vvn-bda-leipzig.de
SUMMARY:Das Novemberpogrom von 1938 in Kleinzschocher*
DESCRIPTION:Die Nacht des 9. November 1938 war der Ausgangspunkt eines mehrtägigen Pogroms gegen Jüdinnen und Juden durch die Nationalsozialisten\, der Auftakt zur Vernichtung der europäischen Jüdinnen und Juden. Auch im Leipziger Arbeiter*innenviertel Kleinzschocher wurden Bewohner*innen Opfer des Pogroms. Im Rundgang stellen wir unterschiedliche Biografien von als jüdisch verfolgten Bewohner*innen des Stadtteils vor und besuchen ihre Wohnorte. \nStadtrundgang mit Manuel Wagner (AG ZschocherHistory\, Lixer e.V.) und Daniela Schmohl (VVN-BdA Leipzig/RLS Sachsen) \nDer Rundgang dauert ca. 1\,5 Stunden. \nEine Veranstaltung des Lixer e.V.\, der VVN-BdA Leipzig und der RLS Sachsen \nDiese Maßnahme wird mitfinanziert durch Steuermittel auf der Grundlage des vom Sächsischen Landtag beschlossenen Haushaltes. \nAusführliche Informationen zu den Biografien NS-Verfolgter im Leipziger Südwesten unter: www.zschocher-history.de
URL:https://vvn-bda-leipzig.de/veranstaltung/das-novemberpogrom-von-1938-in-kleinzschocher
LOCATION:Brachfläche am Adler\, Wigandstrasse 2\, 04229 Leipzig\, Wigandstr. 2\, Leipzig\, 04229\, Germany
CATEGORIES:VVNBdALeipzig
ATTACH;FMTTYPE=image/jpeg:https://vvn-bda-leipzig.de/wp-content/uploads/2024/10/24_11_09-Novemberpogrom-Kleinzschocher.jpg
ORGANIZER;CN="Rosa-Luxemburg-Stiftung Sachsen e.V.":MAILTO:info@rosalux-sachsen.de
END:VEVENT
BEGIN:VEVENT
DTSTART;TZID=Europe/Paris:20241110T170000
DTEND;TZID=Europe/Paris:20241110T180000
DTSTAMP:20260423T143107
CREATED:20241015T205131Z
LAST-MODIFIED:20241031T150713Z
UID:2229-1731258000-1731261600@vvn-bda-leipzig.de
SUMMARY:Erinnern heißt Kämpfen. Antifaschistische Gedenkkundgebung zum 86. Jahrestag der Novemberpogrome von 1938
DESCRIPTION:Erinnern heißt Kämpfen. Antifaschistische Gedenkkundgebung zum 86. Jahrestag der Novemberpogrome von 1938\nKundgebung am Gleis 23 im Hauptbahnhof (Kofferdenkmal)
URL:https://vvn-bda-leipzig.de/veranstaltung/erinnern-heisst-kaempfen-antifaschistische-gedenkkundgebung-zum-86-jahrestag-der-novemberpogrome-von-1938
LOCATION:Deportationsdenkmal im Hauptbahnhof\, Willy-Brandt-Platz 5\, Leipzig\, 04109
CATEGORIES:VVNBdALeipzig
ATTACH;FMTTYPE=image/jpeg:https://vvn-bda-leipzig.de/wp-content/uploads/2024/10/20241109_Kundgebung.jpeg
END:VEVENT
BEGIN:VEVENT
DTSTART;TZID=Europe/Paris:20241114T150000
DTEND;TZID=Europe/Paris:20241114T170000
DTSTAMP:20260423T143107
CREATED:20241015T205539Z
LAST-MODIFIED:20241031T145727Z
UID:2233-1731596400-1731603600@vvn-bda-leipzig.de
SUMMARY:Neueröffnung der antifaschistischen Bibliothek
DESCRIPTION:Das Bibo-Team der VVN-BdA Leipzig lädt Lesefreunde und -freundinnen ganz herzlich zur Neueröffnung der antifaschistischen Bibliothek im Interims-Büro ein.\nKommt gern vorbei zum Anstoßen\, Reden und Lesen. \n 
URL:https://vvn-bda-leipzig.de/veranstaltung/neueroeffnung-der-antifaschistischen-bibliothek
LOCATION:VVN-BdA Leipzig Büro\, Binzer Str. 1\, Leipzig\, 04209
CATEGORIES:VVNBdALeipzig
ATTACH;FMTTYPE=image/jpeg:https://vvn-bda-leipzig.de/wp-content/uploads/2024/10/20241114_Bibo-Eroeffnung.jpg
ORGANIZER;CN="VVN-BdA Leipzig":MAILTO:info@vvn-bda-leipzig.de
END:VEVENT
BEGIN:VEVENT
DTSTART;TZID=Europe/Paris:20241126T200000
DTEND;TZID=Europe/Paris:20241126T223000
DTSTAMP:20260423T143107
CREATED:20241015T210021Z
LAST-MODIFIED:20241118T115055Z
UID:2236-1732651200-1732660200@vvn-bda-leipzig.de
SUMMARY:"Der Verräter\, Stalin\, bist Du!" Szenische Lesung zum Hitler-Stalin-Pakt und dem Ende der linken Solidarität
DESCRIPTION:Szenische Lesung\nMit Alina Antonov\, Manuel Wagner (Schauspieler*in) und Dr. Bernhard H. Bayerlein (Historiker)\nREIHE: Good bye Stalin! Wider den autoritären Kommunismus \nEine Veranstaltung des Projekt- und Abgeordnetenbüro Linxxnet\, der VVN-BdA Leipzig und der RLS Sachsen in Kooperation mit der Rosa-Luxemburg-Stiftung: Gesellschaftsanalyse und politische Bildung e.V. \nDie Ursache des Zweiten Weltkrieges war die rasseideologisch begründete Raub- und Vernichtungspolitik des deutschen Faschismus\, des Nationalsozialismus:  Gewinnung von „Lebensraum im Osten“ und sein Vernichtungswille gegenüber politischen Gegner*innen\, eliminatorischer Antisemitismus\, antislawischer Rassismus und Euthanasie gegen vermeintlich „unwertes Leben“ waren Grundlage und zentrales Charakteristikum der deutschen Kriegsführung. \nUnd doch veränderte die offizielle deutsch-russische Zusammenarbeit 1939-1941 – der “russische Dolchstoß” nach Willi Münzenberg – den Verlauf des Zweiten Weltkriegs\, bestimmte maßgeblich das Schicksal der Staaten\, Nationen und Minderheiten in Europa\, pervertierte den Antifaschismus und zerstörte die linke Einheit der Arbeiterbewegung. Geheime Dokumente und private Quellen machen die Beweggründe hinter dem Nichtangriffspakt sichtbar und bezeugen den heute vergessenen Widerstand. Sie dekonstruieren Mythen und Manipulation und zerlegen das in der Diskursgeschichte wirkmächtige Lügengeflecht. Dieses wird bis heute im Osten geleugnet und trotz aller europäischen Resolutionen im Westen verdrängt. \nDie multimedial unterlegte Aufführung mit einem Kommentator und zwei Schauspieler*innen schafft einen szenischen Ort kollektiver historischer Erinnerung. \n“An der Seite Hitlers gibt es für jedes Regime der Welt nur den Untergang\, nichts sonst.” (Bertolt Brecht) \n\n 
URL:https://vvn-bda-leipzig.de/veranstaltung/der-verraeter-stalin-bist-du-szenische-lesung-zum-hitler-stalin-pakt-und-dem-ende-der-linken-solidaritaet
LOCATION:Neues Schauspiel\, Lützner Str. 29\, Leipzig\, 04177
CATEGORIES:VVNBdALeipzig
ATTACH;FMTTYPE=image/png:https://vvn-bda-leipzig.de/wp-content/uploads/2024/10/20241126_Stalin_002.png
ORGANIZER;CN="Rosa-Luxemburg-Stiftung Sachsen e.V.":MAILTO:info@rosalux-sachsen.de
END:VEVENT
BEGIN:VEVENT
DTSTART;TZID=Europe/Paris:20241128T170000
DTEND;TZID=Europe/Paris:20241128T183000
DTSTAMP:20260423T143107
CREATED:20241015T210207Z
LAST-MODIFIED:20241015T210207Z
UID:2240-1732813200-1732818600@vvn-bda-leipzig.de
SUMMARY:Jahresabschlussfeier der VVN-BdA Leipzig
DESCRIPTION:Jahresabschlussfeier der VVN-BdA Leipzig mit musikalischem Rahmen und einem Ausblick auf 2025
URL:https://vvn-bda-leipzig.de/veranstaltung/jahresabschlussfeier-der-vvn-bda-leipzig
LOCATION:Bürgertreff Messemagistrale\, Straße des 18. Oktober 10a\, Leipzig
CATEGORIES:VVNBdALeipzig
END:VEVENT
END:VCALENDAR