BEGIN:VCALENDAR
VERSION:2.0
PRODID:-//VVN-BdA Leipzig e. V. - ECPv6.15.20//NONSGML v1.0//EN
CALSCALE:GREGORIAN
METHOD:PUBLISH
X-WR-CALNAME:VVN-BdA Leipzig e. V.
X-ORIGINAL-URL:https://vvn-bda-leipzig.de
X-WR-CALDESC:Veranstaltungen für VVN-BdA Leipzig e. V.
REFRESH-INTERVAL;VALUE=DURATION:PT1H
X-Robots-Tag:noindex
X-PUBLISHED-TTL:PT1H
BEGIN:VTIMEZONE
TZID:Europe/Paris
BEGIN:DAYLIGHT
TZOFFSETFROM:+0100
TZOFFSETTO:+0200
TZNAME:CEST
DTSTART:20230326T010000
END:DAYLIGHT
BEGIN:STANDARD
TZOFFSETFROM:+0200
TZOFFSETTO:+0100
TZNAME:CET
DTSTART:20231029T010000
END:STANDARD
BEGIN:DAYLIGHT
TZOFFSETFROM:+0100
TZOFFSETTO:+0200
TZNAME:CEST
DTSTART:20240331T010000
END:DAYLIGHT
BEGIN:STANDARD
TZOFFSETFROM:+0200
TZOFFSETTO:+0100
TZNAME:CET
DTSTART:20241027T010000
END:STANDARD
BEGIN:DAYLIGHT
TZOFFSETFROM:+0100
TZOFFSETTO:+0200
TZNAME:CEST
DTSTART:20250330T010000
END:DAYLIGHT
BEGIN:STANDARD
TZOFFSETFROM:+0200
TZOFFSETTO:+0100
TZNAME:CET
DTSTART:20251026T010000
END:STANDARD
END:VTIMEZONE
BEGIN:VEVENT
DTSTART;TZID=Europe/Paris:20241008T200000
DTEND;TZID=Europe/Paris:20241008T213000
DTSTAMP:20260423T161649
CREATED:20241006T141125Z
LAST-MODIFIED:20241006T141125Z
UID:2193-1728417600-1728423000@vvn-bda-leipzig.de
SUMMARY:Feuer. Das antisemitische Pogrom vom 7. Oktober 2023
DESCRIPTION:Lesung mit Thomas Ebermann \nIn seinem Buch Feuer – Israel und der 7. Oktober – dokumentiert der Autor Ron Leshem das brutalste antisemitische Pogrom seit der Shoah schonungslos. Ziel der islamistischen Hamas war die israelische Zivilbevölkerung\, die Mittel waren Zerstörung\, Entführungen\, Massaker und sexuelle Gewalt. Dabei benennt er auch das vielfache Versagen der israelischen Sicherheitskräfte und spart nicht mit Kritik an der derzeitigen rechten Regierung im Land. \nLeshem ist eine Stimme jener andauernden demokratischen Massenproteste in Israel\, die sich für Verhandlungen und die Freilassung der noch verbliebenen 108 Geiseln einsetzen. Mit dieser Lesung sollen die Ereignisse und ihre Folgen sichtbar gemacht werden. Sie sind eine Aufforderung zum Handeln. \nEs liest der Autor\, Publizist und Dramaturg Thomas Ebermann. Für seine Arbeiten wurde er im Jahr 2012 vom Auschwitz-Komitee mit dem Hans-Frankenthal-Preis ausgezeichnet. \n Eine Veranstaltung im Rahmen der Aktionswochen „Gegen jeden Antisemitismus – Erinnern heißt Handeln!“. Der Abend wird organisiert von der Gruppe Florida in Kooperation mit der Buchhandlung drift und der VVN-BdA Leipzig.
URL:https://vvn-bda-leipzig.de/veranstaltung/feuer-das-antisemitische-pogrom-vom-7-oktober-2023
LOCATION:Conne Island\, Koburger Str. 3\, Leipzig\, 04277
CATEGORIES:VVNBdALeipzig
ORGANIZER;CN="Gruppe Florida":MAILTO:https://www.instagram.com/p/C63Pt6FMm8b/?img_index=1
END:VEVENT
BEGIN:VEVENT
DTSTART;TZID=Europe/Paris:20241016T190000
DTEND;TZID=Europe/Paris:20241016T210000
DTSTAMP:20260423T161649
CREATED:20241009T160327Z
LAST-MODIFIED:20241009T160327Z
UID:2205-1729105200-1729112400@vvn-bda-leipzig.de
SUMMARY:Antifaschistischer Stammtisch 
DESCRIPTION:Diesmal kommen wir ins Gespräch mit unseren langjährigen Mitgliedern zu ihren Wendeerfahrungen und sprechen mit ihnen auch über die Gründung des Bundes der Antifaschisten in Leipzig. Ihr seid herzlich zum Austausch eingeladen! \n  \nim Saal der Gaststätte Frau Krause in der Simildenstraße 8
URL:https://vvn-bda-leipzig.de/veranstaltung/antifaschistischer-stammtisch
LOCATION:Frau Krause\, Simildenstr. 8\, Leipzig\, 04277
CATEGORIES:VVNBdALeipzig
ORGANIZER;CN="VVN-BdA Leipzig":MAILTO:info@vvn-bda-leipzig.de
END:VEVENT
END:VCALENDAR