BEGIN:VCALENDAR
VERSION:2.0
PRODID:-//VVN-BdA Leipzig e. V. - ECPv6.15.20//NONSGML v1.0//EN
CALSCALE:GREGORIAN
METHOD:PUBLISH
X-WR-CALNAME:VVN-BdA Leipzig e. V.
X-ORIGINAL-URL:https://vvn-bda-leipzig.de
X-WR-CALDESC:Veranstaltungen für VVN-BdA Leipzig e. V.
REFRESH-INTERVAL;VALUE=DURATION:PT1H
X-Robots-Tag:noindex
X-PUBLISHED-TTL:PT1H
BEGIN:VTIMEZONE
TZID:Europe/Paris
BEGIN:DAYLIGHT
TZOFFSETFROM:+0100
TZOFFSETTO:+0200
TZNAME:CEST
DTSTART:20230326T010000
END:DAYLIGHT
BEGIN:STANDARD
TZOFFSETFROM:+0200
TZOFFSETTO:+0100
TZNAME:CET
DTSTART:20231029T010000
END:STANDARD
BEGIN:DAYLIGHT
TZOFFSETFROM:+0100
TZOFFSETTO:+0200
TZNAME:CEST
DTSTART:20240331T010000
END:DAYLIGHT
BEGIN:STANDARD
TZOFFSETFROM:+0200
TZOFFSETTO:+0100
TZNAME:CET
DTSTART:20241027T010000
END:STANDARD
BEGIN:DAYLIGHT
TZOFFSETFROM:+0100
TZOFFSETTO:+0200
TZNAME:CEST
DTSTART:20250330T010000
END:DAYLIGHT
BEGIN:STANDARD
TZOFFSETFROM:+0200
TZOFFSETTO:+0100
TZNAME:CET
DTSTART:20251026T010000
END:STANDARD
END:VTIMEZONE
BEGIN:VEVENT
DTSTART;TZID=Europe/Paris:20240527T190000
DTEND;TZID=Europe/Paris:20240527T213000
DTSTAMP:20260423T231330
CREATED:20240513T080226Z
LAST-MODIFIED:20240513T080226Z
UID:2154-1716836400-1716845400@vvn-bda-leipzig.de
SUMMARY:Die Afd und der Antisemitismus
DESCRIPTION:Veranstaltung der Gruppe Florida unterstützt durch die VVN-BdA Leipzig \nEin Gespräch mit Volker Weiß \nDie AfD gibt sich als „Schutzmacht“ für Jüdinnen*Juden. Sie äußert sich proisraelisch und bindet einige jüdische Parteimitglieder in ihre Agitation ein. \nZugleich will die größte extrem rechte Partei Deutschlands die jüdische Religionsausübung einschränken\, verbreitet antisemitische Verschwörungslegenden und attackiert das Gedenken an die Opfer des Nationalsozialismus auf breiter Front. Vor allem in Zeitschriften und Verlagen aus dem Umfeld der AfD weichen die Positionen zu Israel und dem Judentum teils erheblich von der Außendarstellung der Partei ab. \nTrotzdem kommt Antisemitismus relativ selten zur Sprache\, wenn die Demokratiefeindlichkeit der AfD Thema ist. Im Diskurs um die Antisemitismuswelle seit dem 7. Oktober bleibt die Rolle der AfD und ihrer neurechten Echokammer außen vor. Gründe genug\, genauer hinzusehen: Wie antisemitisch ist die AfD? Profitiert sie von blinden Flecken in der Debatte? Wie sind ihre proisraelischen Statements zu bewerten? Ist die antifaschistische Zivilgesellschaft für den Kampf gegen den Antisemitismus der AfD gerüstet? \nVolker Weiß\, Historiker\, forscht zur Geschichte und Gegenwart der äußersten Rechten in Deutschland. Sein Buch „Die autoritäre Revolte“ gilt als Standardwerk zur Geschichte der Neuen Rechten. Seine Texte erschienen u.a. in Die Zeit\, Spiegel online\, Süddeutsche Zeitung und der Wochenzeitung Jungle World. \n 
URL:https://vvn-bda-leipzig.de/veranstaltung/die-afd-und-der-antisemitismus
LOCATION:Cineding Leipzig\, Karl-Heine-Straße 38\, Leipzig\, Sachsen\, 04229\, Deutschland
ORGANIZER;CN="Gruppe Florida":MAILTO:https://www.instagram.com/p/C63Pt6FMm8b/?img_index=1
END:VEVENT
END:VCALENDAR