BEGIN:VCALENDAR
VERSION:2.0
PRODID:-//VVN-BdA Leipzig e. V. - ECPv6.15.20//NONSGML v1.0//EN
CALSCALE:GREGORIAN
METHOD:PUBLISH
X-ORIGINAL-URL:https://vvn-bda-leipzig.de
X-WR-CALDESC:Veranstaltungen für VVN-BdA Leipzig e. V.
REFRESH-INTERVAL;VALUE=DURATION:PT1H
X-Robots-Tag:noindex
X-PUBLISHED-TTL:PT1H
BEGIN:VTIMEZONE
TZID:Europe/Paris
BEGIN:DAYLIGHT
TZOFFSETFROM:+0100
TZOFFSETTO:+0200
TZNAME:CEST
DTSTART:20230326T010000
END:DAYLIGHT
BEGIN:STANDARD
TZOFFSETFROM:+0200
TZOFFSETTO:+0100
TZNAME:CET
DTSTART:20231029T010000
END:STANDARD
BEGIN:DAYLIGHT
TZOFFSETFROM:+0100
TZOFFSETTO:+0200
TZNAME:CEST
DTSTART:20240331T010000
END:DAYLIGHT
BEGIN:STANDARD
TZOFFSETFROM:+0200
TZOFFSETTO:+0100
TZNAME:CET
DTSTART:20241027T010000
END:STANDARD
BEGIN:DAYLIGHT
TZOFFSETFROM:+0100
TZOFFSETTO:+0200
TZNAME:CEST
DTSTART:20250330T010000
END:DAYLIGHT
BEGIN:STANDARD
TZOFFSETFROM:+0200
TZOFFSETTO:+0100
TZNAME:CET
DTSTART:20251026T010000
END:STANDARD
END:VTIMEZONE
BEGIN:VEVENT
DTSTART;TZID=Europe/Paris:20240414T110000
DTEND;TZID=Europe/Paris:20240414T150000
DTSTAMP:20260424T003533
CREATED:20240325T082440Z
LAST-MODIFIED:20240325T082440Z
UID:2135-1713092400-1713106800@vvn-bda-leipzig.de
SUMMARY:Antifaschistische Fahrradtour
DESCRIPTION:Zusammen mit der Naturfreunde Jugend Leipzig und dem Ladenschluss Bündnis laden wir euch ein zu einer antifaschistischen Fahrradtour. \nFahrt mit uns von Connewitz nach Lindenthal. \nAm 18. April 1945 wurde Leipzig von amerikanischen Truppen befreit. Wenige Tage vor der Befreiung ermordeten Faschisten am 12. April 1945 in Lindenthal 53 Menschen.\nSie waren größtenteils im Leipziger Polizeigefängnis inhaftiert und stammten aus der Sowjetunion\, der Tschechoslowakei\, Polen\, Frankreich\, den Vereinigten Staaten und dem deutschen Reich. Der Großteil von ihnen war in Leipzig zur Zwangsarbeit eingesetzt und wegen kleinerer Verstöße inhaftiert worden.\nUnter den deutschen Ermordeten befanden sich die Widerstandskämpfer:innen Dr. Margarete Bothe\, Alfred Kästner und Paul Küstner. \nMit mehreren Zwischenstopps fahren wir gemeinsam nach Lindenthal und nehmen dabei auch aktuelle rechte Aktivitäten in den den Blick.
URL:https://vvn-bda-leipzig.de/veranstaltung/antifaschistische-fahrradtour
END:VEVENT
BEGIN:VEVENT
DTSTART;TZID=Europe/Paris:20240418T153000
DTEND;TZID=Europe/Paris:20240418T170000
DTSTAMP:20260424T003533
CREATED:20240409T122430Z
LAST-MODIFIED:20240409T122525Z
UID:2145-1713454200-1713459600@vvn-bda-leipzig.de
SUMMARY:Gedenken an die Opfer des "Massakers von Abtnaundorf"
DESCRIPTION:Am 18. April 2024 jähren sich das „Massaker von Abtnaundorf“ und das Kriegsende in Leipzig zum 79. Mal. Zu diesem Anlass gedenken wir gemeinsam mit der Gedenkstätte für Zwangsarbeit Leipzig der Opfer der NS-Zwangsarbeit und des letzten Verbrechens der nationalsozialistischen Gewaltherrschaft in der Stadt.\n\nDas KZ-Außenlager Leipzig-Thekla wurde im März 1943 errichtet. Die Häftlinge\, mehrere Tausend Männer aus der Sowjetunion\, Polen\, Frankreich und anderen Ländern\, mussten für die Erla Maschinenwerke GmbH Zwangsarbeit leisten. Im April 1945 wurde das Lager aufgelöst\, etwa 300 kranke Häftlinge blieben zurück. Die SS sperrte sie in eine Baracke ein und schoss diese in Brand. Mehr als 80 Männer verloren dabei ihr Leben. Wenige Stunden betraten US-amerikanische Soldaten das Lager und dokumentierten das Verbrechen. Diese Dokumente dienten als Beweismittel im Nürnberger Prozess gegen die Hauptkriegsverbrecher und erlangten damit internationale Bekanntheit.\n\nTreffpunkt um 15.30 Uhr: Mahnmal Abtnaundorf\, Theklaer / Heiterblickstraße\n\nWeitere Gedenkveranstaltungen am 18. April zur Befreiung Leipzigs durch die US Army finden um 16.30 Uhr vor der „Runden Ecke“ und um 17.15 Uhr am Capa-Haus an der Angerbrücke statt.\n 
URL:https://vvn-bda-leipzig.de/veranstaltung/gedenken-an-die-opfer-des-massakers-von-abtnaundorf
LOCATION:Mahnmal Abtnaundorf\, Theklaer Str. / Heiterblickstraße\, Leipzig\, 04347
CATEGORIES:Tipp
END:VEVENT
END:VCALENDAR