BEGIN:VCALENDAR
VERSION:2.0
PRODID:-//VVN-BdA Leipzig e. V. - ECPv6.15.20//NONSGML v1.0//EN
CALSCALE:GREGORIAN
METHOD:PUBLISH
X-WR-CALNAME:VVN-BdA Leipzig e. V.
X-ORIGINAL-URL:https://vvn-bda-leipzig.de
X-WR-CALDESC:Veranstaltungen für VVN-BdA Leipzig e. V.
REFRESH-INTERVAL;VALUE=DURATION:PT1H
X-Robots-Tag:noindex
X-PUBLISHED-TTL:PT1H
BEGIN:VTIMEZONE
TZID:Europe/Paris
BEGIN:DAYLIGHT
TZOFFSETFROM:+0100
TZOFFSETTO:+0200
TZNAME:CEST
DTSTART:20230326T010000
END:DAYLIGHT
BEGIN:STANDARD
TZOFFSETFROM:+0200
TZOFFSETTO:+0100
TZNAME:CET
DTSTART:20231029T010000
END:STANDARD
BEGIN:DAYLIGHT
TZOFFSETFROM:+0100
TZOFFSETTO:+0200
TZNAME:CEST
DTSTART:20240331T010000
END:DAYLIGHT
BEGIN:STANDARD
TZOFFSETFROM:+0200
TZOFFSETTO:+0100
TZNAME:CET
DTSTART:20241027T010000
END:STANDARD
BEGIN:DAYLIGHT
TZOFFSETFROM:+0100
TZOFFSETTO:+0200
TZNAME:CEST
DTSTART:20250330T010000
END:DAYLIGHT
BEGIN:STANDARD
TZOFFSETFROM:+0200
TZOFFSETTO:+0100
TZNAME:CET
DTSTART:20251026T010000
END:STANDARD
END:VTIMEZONE
BEGIN:VEVENT
DTSTART;TZID=Europe/Paris:20240126T190000
DTEND;TZID=Europe/Paris:20240126T220000
DTSTAMP:20260424T043745
CREATED:20240117T082848Z
LAST-MODIFIED:20240117T082848Z
UID:2125-1706295600-1706306400@vvn-bda-leipzig.de
SUMMARY:Dui Rroma – Zwei Lebenskünstler
DESCRIPTION:Am 26.01.2024 zeigt Romano Sumnal gemeinsam mit dem Fachnetzwerk Antiziganismus anlässlich des internationalen Auschwitz- Gedenktages (27.01.2023) um 19:00 Uhr bei uns im IKS (Informations- und Kulturzentrum Roma und Sinti in Sachsen) in der Karl Liebknecht Straße 54 in 04275 Leipzig  den Film:\n\nDui Rroma – Zwei Lebenskünstler\nvon Iovanca Gaspar\n\nEin Dokumentarfilm über die Geschichte und das Leiden des Auschwitzüberlebenden Hugo Höllenreiner\, Opfer der Experimente von Josef Mengele. Hölkenreiner gibt auf einer Zugreise nach Auschwitz seine Erinnerungen an den jungen Komponisten Adrian Gaspar weiter. Dieser vertont sie als Oratorium mit dem Titel „Symphonia Romani – Bari Duk“.\n(der große Schmerz)\n\nEin imposanter und einfühlsamer Film\, der zeigt wie sehr die Geschichte der Nazizeit auch heute noch aktuell ist und nie vergessen werden darf.\nDas musikalische Werk und der Film sind überwiegend in Rromanes (mit deutschen Untertiteln) gehalten.
URL:https://vvn-bda-leipzig.de/veranstaltung/dui-rroma-zwei-lebenskuenstler
LOCATION:Informations- und Kulturzentrum Roma und Sinti in Sachsen (IKS)\, Karl-Liebknecht-Straße 54\, Leipzig\, 04275
ATTACH;FMTTYPE=image/jpeg:https://vvn-bda-leipzig.de/wp-content/uploads/2024/01/winzig-roma.jpg
END:VEVENT
BEGIN:VEVENT
DTSTART;TZID=Europe/Paris:20240131T180000
DTEND;TZID=Europe/Paris:20240131T220000
DTSTAMP:20260424T043745
CREATED:20240117T083633Z
LAST-MODIFIED:20240117T083717Z
UID:2131-1706724000-1706738400@vvn-bda-leipzig.de
SUMMARY:Was ist Faschismus? Vom Schlagwort zur Analysekategorie
DESCRIPTION:Höcke\, Erdoğan\, Meloni\, Putin\, Trump – angesichts solcher Politiker*innen drängt der vor gut 100 Jahren in Italien geprägte Faschismusbegriff wieder stärker in die Diskussion. „Faschismus“ war aber schon immer nicht nur eine Analysekategorie\, sondern auch ein Kampfbegriff\, der ziemlich wahllos gegen politische Gegner*innen eingesetzt wurde.\nWir wollen den Faschismusbegriff klären und unterschiedliche Theorien kennenlernen\, die in antifaschistischer und gesellschaftskritischer Absicht entwickelt wurden. Selbstverständlich geht es auch um heutige faschistische Bewegungen und autoritäre Regime. \nDer Politologe und Historiker Mathias Wörsching wird uns einen Überblick zum Faschismusbegriff geben\, anschlißend kann diskutiert werden. \nWegen begrenzter Plätze bitten wir um Anmeldung unter: anmeldung@rosalux-sachsen.de
URL:https://vvn-bda-leipzig.de/veranstaltung/was-ist-faschismus-vom-schlagwort-zur-analysekategorie
LOCATION:Capa-Haus an der Angerbrücke\, Jahnallee 61\, Leipzig\, 04177
ATTACH;FMTTYPE=image/jpeg:https://vvn-bda-leipzig.de/wp-content/uploads/2023/03/winzig_logo_bda_leipzig.jpg
ORGANIZER;CN="VVN-BdA Leipzig":MAILTO:info@vvn-bda-leipzig.de
END:VEVENT
END:VCALENDAR