BEGIN:VCALENDAR
VERSION:2.0
PRODID:-//VVN-BdA Leipzig e. V. - ECPv6.15.20//NONSGML v1.0//EN
CALSCALE:GREGORIAN
METHOD:PUBLISH
X-WR-CALNAME:VVN-BdA Leipzig e. V.
X-ORIGINAL-URL:https://vvn-bda-leipzig.de
X-WR-CALDESC:Veranstaltungen für VVN-BdA Leipzig e. V.
REFRESH-INTERVAL;VALUE=DURATION:PT1H
X-Robots-Tag:noindex
X-PUBLISHED-TTL:PT1H
BEGIN:VTIMEZONE
TZID:Europe/Paris
BEGIN:DAYLIGHT
TZOFFSETFROM:+0100
TZOFFSETTO:+0200
TZNAME:CEST
DTSTART:20220327T010000
END:DAYLIGHT
BEGIN:STANDARD
TZOFFSETFROM:+0200
TZOFFSETTO:+0100
TZNAME:CET
DTSTART:20221030T010000
END:STANDARD
BEGIN:DAYLIGHT
TZOFFSETFROM:+0100
TZOFFSETTO:+0200
TZNAME:CEST
DTSTART:20230326T010000
END:DAYLIGHT
BEGIN:STANDARD
TZOFFSETFROM:+0200
TZOFFSETTO:+0100
TZNAME:CET
DTSTART:20231029T010000
END:STANDARD
BEGIN:DAYLIGHT
TZOFFSETFROM:+0100
TZOFFSETTO:+0200
TZNAME:CEST
DTSTART:20240331T010000
END:DAYLIGHT
BEGIN:STANDARD
TZOFFSETFROM:+0200
TZOFFSETTO:+0100
TZNAME:CET
DTSTART:20241027T010000
END:STANDARD
END:VTIMEZONE
BEGIN:VEVENT
DTSTART;TZID=Europe/Paris:20231015T130000
DTEND;TZID=Europe/Paris:20231015T163000
DTSTAMP:20260424T092551
CREATED:20231012T095952Z
LAST-MODIFIED:20231012T095952Z
UID:2091-1697374800-1697387400@vvn-bda-leipzig.de
SUMMARY:Widerstand und Verfolgung im Leipziger Arbeiter*innenviertel Kleinzschocher
DESCRIPTION:Mit Manuel Wagner (AG Zschocher-History\, Lixer e.V.)\, Alexander Rode und  Janika Wersing (Geschichtswerkstatt »leipzig|unten«) und Daniela Schmohl (Historikerin\, RLS Sachsen) \nEine Veranstaltung des Lixer e.V. und der RLS Sachsen \nMit dem Einsetzen der Industrialisierung entwickelte sich das Dorf Kleinzschocher in rasender Geschwindigkeit zu einem quirligen Arbeiter*innenviertel. Das Leben der Menschen in Zschocher war geprägt durch Enge\, Armut und\, wenn vorhanden\, eintönige und harte Arbeit in den umliegenden Fabriken. Trotzdem oder genau deswegen\, gab es einen hohen Grad an politischer Organisierung unter den Bewohner*innen. Ob im Arbeitersport-Verein\, bei politischen Diskussionen in der Jugendgruppe oder im Betrieb. Kleinzschocher war ein stark sozialdemokratisch und kommunistisch geprägter Stadtteil. Mit der Machtübergabe an die Nationalsozialisten setzte eine Welle von Terror und Verfolgung ein. Die Strukturen der Arbeiter*innenbewegung wurden zerschlagen und großflächige Razzien fanden statt\, denen viele politisch aktive Arbeiter*innen zum Opfer fielen. Die einzelnen Stationen widmen sich den mutigen Widerstandsversuchen der Bewohner*innen des Stadtteils und erzählen ihre Geschichte. Als Abschluss des Rundgangs zeigt die Geschichtswerkstatt »leipzig|unten« ihre Ausstellung zu Albert Hennig\, einem Arbeiterfotografen aus Kleinzschocher\, und gibt einen kurzen Einblick in sein bewegtes Leben. \nDer Rundgang mit Ausstellungsbesuch dauert ca. 3\,5 Stunden.
URL:https://vvn-bda-leipzig.de/veranstaltung/widerstand-und-verfolgung-im-leipziger-arbeiterinnenviertel-kleinzschocher
LOCATION:Gedenkstein für das „Internationale Antifaschistische Komitee“\, Nikolai-Rumjanzew-Strasse 2\, Leipzig\, 04207
ATTACH;FMTTYPE=image/jpeg:https://vvn-bda-leipzig.de/wp-content/uploads/2023/03/tipp.jpg
ORGANIZER;CN="Rosa-Luxemburg-Stiftung Sachsen e.V.":MAILTO:info@rosalux-sachsen.de
END:VEVENT
BEGIN:VEVENT
DTSTART;TZID=Europe/Paris:20231024T183000
DTEND;TZID=Europe/Paris:20231024T213000
DTSTAMP:20260424T092551
CREATED:20231018T070020Z
LAST-MODIFIED:20250415T050926Z
UID:2097-1698172200-1698183000@vvn-bda-leipzig.de
SUMMARY:Jüdischer Widerstand von Białystok bis Sobibór. Die Aufstände im besetzten Polen 1943
DESCRIPTION:Online-Veranstaltung unseres Bundesverbandes. .\nJüdischer Widerstand von Białystok bis Sobibór. Die Aufstände im besetzten Polen 1943. Mit der Historikerin Franziska Bruder.\nWann: Dienstag\, 24. Okt. 2023\, 19-21 Uhr \n🔻 Von den #Ghettos in #Warschau und #Białystok bis hin zu den Todeslagern #Sobibór und #Treblinka: an all diesen Orten gab es 1943 Aufstände von Jüdinnen und Juden gegen die nazistische #Vernichtungspolitik. Lange Zeit war dieser #Widerstand vergessen oder unsichtbar gemacht. Wir widmen uns der Frage\, welche Bedeutung das Jahr 1943 für den #jüdischen Widerstand hatte\, wer die #Aufstände organisierte\, unter was für Bedingungen sie stattfanden und welche Verbindungen unter einander bestanden. \n➡️ Franziska Bruder ist Historikerin\, aktiv im Vorstand der VVN-BdA Lichtenberg / Berlin und in der Lagergemeinschaft Ravensbrück Freundeskreis e.V. Seit vielen Jahren forscht sie zur nazistischen Vernichtungspolitik in #Polen\, pflegt langjährige Kontakte zu Überlebenden und hat unter anderem 2019 zum jüdischen Widerstand publiziert: „Das eigene Schicksal selbst bestimmen. Fluchten aus den Deportationszügen in die Vernichtungslager der ‚Aktion Reinhardt‘ in Polen“. \n 
URL:https://vvn-bda-leipzig.de/veranstaltung/juedischer-widerstand-von-bialystok-bis-sobibor-die-aufstaende-im-besetzten-polen-1943
LOCATION:Stadtteilladen Lixer e.V.\, Pörstener Straße 9\, Leipzig\, 04229
ATTACH;FMTTYPE=image/jpeg:https://vvn-bda-leipzig.de/wp-content/uploads/2023/03/Logo-Bund-winzig-232x300-1.jpg
END:VEVENT
BEGIN:VEVENT
DTSTART;TZID=Europe/Paris:20231031T110000
DTEND;TZID=Europe/Paris:20231104T170000
DTSTAMP:20260424T092551
CREATED:20231012T100345Z
LAST-MODIFIED:20250415T050618Z
UID:2095-1698750000-1699117200@vvn-bda-leipzig.de
SUMMARY:Auszug aus dem Erich-Zeigner-Haus
DESCRIPTION:Wie einige von euch bereits wissen\, wird das Erich-Zeigner-Haus\, in dem wir unser Büro\, das Archiv und bis April 2023 auch unsere „Bibliothek des Antifaschismus“ untergebracht haben bald saniert. Die Vorarbeiten laufen schon\, die Bibliothek mussten wir ja bereits im April auslagern\, 2024 starten dann die umfangreichen Baumaßnahmen. \nDas heißt für uns: wir müssen raus! \nWir haben als Vorstand den Auszugstermin auf Samstag\, den 04.November 2023 terminiert und brauchen rund um diesen Tag nun eure Hilfe. Gebt uns per Mail Bescheid\, wann ihr uns zwischen 31.10 und 04.11 unterstützen könnt.
URL:https://vvn-bda-leipzig.de/veranstaltung/auzug-aus-dem-erich-zeigner-haus
LOCATION:Erich Zeigner Haus\, Zschochersche Straße 21\, Leipzig\, 04229
ATTACH;FMTTYPE=image/jpeg:https://vvn-bda-leipzig.de/wp-content/uploads/2023/03/winzig_logo_bda_leipzig.jpg
ORGANIZER;CN="VVN-BdA Leipzig":MAILTO:info@vvn-bda-leipzig.de
END:VEVENT
END:VCALENDAR