BEGIN:VCALENDAR
VERSION:2.0
PRODID:-//VVN-BdA Leipzig e. V. - ECPv6.15.20//NONSGML v1.0//EN
CALSCALE:GREGORIAN
METHOD:PUBLISH
X-ORIGINAL-URL:https://vvn-bda-leipzig.de
X-WR-CALDESC:Veranstaltungen für VVN-BdA Leipzig e. V.
REFRESH-INTERVAL;VALUE=DURATION:PT1H
X-Robots-Tag:noindex
X-PUBLISHED-TTL:PT1H
BEGIN:VTIMEZONE
TZID:Europe/Paris
BEGIN:DAYLIGHT
TZOFFSETFROM:+0100
TZOFFSETTO:+0200
TZNAME:CEST
DTSTART:20250330T010000
END:DAYLIGHT
BEGIN:STANDARD
TZOFFSETFROM:+0200
TZOFFSETTO:+0100
TZNAME:CET
DTSTART:20251026T010000
END:STANDARD
BEGIN:DAYLIGHT
TZOFFSETFROM:+0100
TZOFFSETTO:+0200
TZNAME:CEST
DTSTART:20260329T010000
END:DAYLIGHT
BEGIN:STANDARD
TZOFFSETFROM:+0200
TZOFFSETTO:+0100
TZNAME:CET
DTSTART:20261025T010000
END:STANDARD
BEGIN:DAYLIGHT
TZOFFSETFROM:+0100
TZOFFSETTO:+0200
TZNAME:CEST
DTSTART:20270328T010000
END:DAYLIGHT
BEGIN:STANDARD
TZOFFSETFROM:+0200
TZOFFSETTO:+0100
TZNAME:CET
DTSTART:20271031T010000
END:STANDARD
END:VTIMEZONE
BEGIN:VEVENT
DTSTART;TZID=Europe/Paris:20260508T180000
DTEND;TZID=Europe/Paris:20260508T203000
DTSTAMP:20260420T094018
CREATED:20260322T104453Z
LAST-MODIFIED:20260322T152615Z
UID:2588-1778263200-1778272200@vvn-bda-leipzig.de
SUMMARY:8. Mai Tag der Befreiung
DESCRIPTION:Zum Jahrestag der militärischen Zerschlagung des deutschen Faschismus beteiligen wir uns zunächst am städtischen Gedenken.\nDas Gedenken beginnt um 16 Uhr auf dem Ostfriedhof. An verschiedenen Stationen wird unterschiedlichen vom faschistischen Terror Betroffenen gedacht.\nEine Station ist etwa das Denkmal für die Opfer der NS-Militärjustiz welches auf Betreiben des BdA und des Friedenszentrum e.V. 1998 eingeweiht werden konnte.\nIm Anschluss an das Gedenken laden wir euch alle ab 18 Uhr zum gemeinsamen Grillen im Hof des Erich-Zeigner-Hauses ein. Außerdem wollen wir euch die Broschüre „Gespräche beim Tee“ über das Leben unseres 2025 verstorbenes Mitglied Maja Günther vorstellen.
URL:https://vvn-bda-leipzig.de/veranstaltung/8-mai-tag-der-befreiung
ATTACH;FMTTYPE=image/png:https://vvn-bda-leipzig.de/wp-content/uploads/2026/03/Kopie-von-Testbilder-fuer-neue-Farben-10.5-x-14.8-cm1.png
END:VEVENT
BEGIN:VEVENT
DTSTART;TZID=Europe/Paris:20260510T110000
DTEND;TZID=Europe/Paris:20260510T180000
DTSTAMP:20260420T094018
CREATED:20260322T121649Z
LAST-MODIFIED:20260322T121649Z
UID:2591-1778410800-1778436000@vvn-bda-leipzig.de
SUMMARY:Connewitzer Straßenfest
DESCRIPTION:Auch im Jahr 2026 sind wir wieder mit einem Stand auf dem Connewitzer Straßenfest vertreten.\nNeben allen möglichen Infos über die Arbeit des VVN-BdA Leipzig e.V. und netten Gesprächen gibt es auch einen inhaltlichen Beitrag.\nUm 13 Uhr beginnt an unserem Stand ein Rundgang zu NS-Zwangsarbeit und Widerstand in Connewitz.\nRundgangdauer ca. 1 Stunde
URL:https://vvn-bda-leipzig.de/veranstaltung/connewitzer-strassenfest
ATTACH;FMTTYPE=image/png:https://vvn-bda-leipzig.de/wp-content/uploads/2026/03/connewitzer-Strassenfest.png
END:VEVENT
BEGIN:VEVENT
DTSTART;TZID=Europe/Paris:20260520T190000
DTEND;TZID=Europe/Paris:20260520T210000
DTSTAMP:20260420T094018
CREATED:20260322T154755Z
LAST-MODIFIED:20260406T115046Z
UID:2595-1779303600-1779310800@vvn-bda-leipzig.de
SUMMARY:Buchvorstellung: Die Shoah und die DDR. Akteure und Aushandlungen im Antifaschismus
DESCRIPTION:Welche Rolle spielten jüdische Überlebende in der DDR in der kulturellen Auseinandersetzung mit der Shoah und dem Nationalsozialismus? Wie konnten jüdische Verfolgungserfahrungen und antifaschistische Überzeugungen angesichts eines staatlich forcierten Antifaschismus verhandelt und artikuliert werden? \nIn seiner Buchvorstellung geht der Historiker Alexander Walther diesen Fragen nach. Ausgehend von Nachlässen und Egodokumenten sowie von Arbeiten u.a. von Arnold Zweig oder Heinz Knobloch zeigt er die Handlungsoptionen und Motivationen jüdischer\, vereinzelt auch nichtjüdischer Akteure und Akteurinnen. Dabei wird das Spannungsfeld zwischen eigensinnigem Handeln und teils parteiloyalen\, mitunter schmerzhaften Zugeständnissen an den Staat untersucht.
URL:https://vvn-bda-leipzig.de/veranstaltung/buchvorstellung-die-shoah-und-die-ddr-akteure-und-aushandlungen-im-antifaschismus
LOCATION:Capa-Haus an der Angerbrücke\, Jahnallee 61\, Leipzig\, 04177
ATTACH;FMTTYPE=image/png:https://vvn-bda-leipzig.de/wp-content/uploads/2026/03/Kopie-von-Testbilder-fuer-neue-Farben-10.5-x-14.8-cm3.png
ORGANIZER;CN="VVN-BdA Leipzig":MAILTO:info@vvn-bda-leipzig.de
END:VEVENT
END:VCALENDAR